BEGIN:VCALENDAR
VERSION:2.0
PRODID:-//Eventin//Event Calendar//EN
CALSCALE:GREGORIAN
METHOD:PUBLISH
BEGIN:VEVENT
UID:336fce49192addc4e6dec568368c0f61@www.dabor.org
SUMMARY:DABOR Event October 2022 - ESG - a new flavour for Risk Managers to
  start getting used to?
DESCRIPTION:Please join us on a DABOR event on Monday 17 October - again me
 eting face-to-face at a wonderful location!\nMain Theme: ESG - a new flavou
 r for Risk Managers to start getting used to? \nWe see ESG matters popping
  up everywhere... During the event we aim to cover the ESG topic from vario
 us angles\, various industries and exploring various known challenges. Amon
 gst others\, we'll try to share views on...\n\n\n 	What are organisations d
 oing today to digest this potentially overwhelming topic?\n 	Do ESG matters
  lead to even more emerging risks or rather more opportunities?\n 	What doe
 s it mean to us as Risk Managers?\n\nThe event will be held in English.\nTi
 me & Location\n\n 	Monday 17 October 14:30 till 19:00 (Netherlands time).
  The program itself between 15:00-18:00.\n 	We would like to welcome you at
  the ABN AMRO head-office at Amsterdam ZuidAs\, Gustav Mahlerlaan 10. The 
 venue is just next to the Amsterdam Zuid station\, very easily reachable by
  public transport. Be sure you are at the reception on time\, from 14:30 on
 wards.\n 	Parking possibilities are in public garages in the Amsterdam Zui
 dAs area (not possible to arrange parking in the ABN AMRO building\, unfort
 unately).\n 	Note that the capacity is limited\, only a few spots are still
  available! In case of reached capacity we'll inform you.\n\nAgenda\n\n\n 	
 14:30 : Gathering\, registration at the ABN AMRO reception and transfer to 
 the venue. Big thank you for hosting this event!\n 	15:00 : Diverse Perspec
 tives on ESG – short stories from the following organisations and speaker
 s:\n\n 	ABN AMRO – Josette van Soest\, Central Risk Management & SFR Core
  Team\; Perspective: Sustainable Finance & Risk Management.\n 	MN – Krisp
 ijn Bertoen\, Head of Responsible Investment\; Perspective: Managing Invest
 ments considering ESG developments.\n 	Protiviti – Jaap Gerkes\, Managin
 g Director and Global ESG lead\; Perspective: Tackling challenges around ES
 G regulation\, reporting and data.\n 	PwC – Patrick Heisen\, Partner\; Pe
 rspective: Asset Management vs ESG & non-financial risk management.\n 	Miss
 ionC – Andrea Orsag\, Founder\; Perspective: Aligning business strategy\,
  sustainability and risk management.\n 	University of Twente – Salih Cev
 ikarslan\, Assistant Professor\; Perspective: Challenging our views on sust
 ainability via economic theory.\n\n\n 	17:00 : Panel discussion and intera
 ctive session.\n 	18:00 : Drinks & Networking!\n\nPrice and further instruc
 tions\n\n\n 	You can sign up to the event via this DABOR website\, latest 
 on October 10\, 17:00. Registrations after this moment may not be possible 
 to process due to technical limitations.\n 	There is a limited capacity\, 
 so we will inform you in case the capacity has been reached. Registration 
 via the DABOR website does not guarantee an available spot.\n 	Confirmatio
 n about your spot will be sent to you by e-mail timely before the event\, 
 along with any other relevant practical information.\n 	Joining DABOR event
 s is free of charge for people who are approved by DABOR as an individual
  participant or join on behalf of a corporate participant – since both pa
 y annual contributions.\n 	For all others\, joining an event one-off is of 
 course possible. The costs are EUR 75 including a continued ‘corona disc
 ount’ applicable this year. If this cost is applicable to you we will con
 tact you about the payment shortly\, but encourage you to consider joining 
 DABOR as a regular participant with annual contribution – you will get ac
 cess to much more!
LOCATION:Online
DTSTAMP:20260425T201750Z
DTSTART:20221017T123000Z
DTEND:20260425T201750Z
END:VEVENT
END:VCALENDAR
